BEGIN:VCALENDAR
VERSION:2.0
PRODID:calendify.com
BEGIN:VEVENT
UID:calendify-session-Zx8g8Kl5Myv
DTSTART:20220521T181500Z
SEQUENCE:0
TRANSP:OPAQUE
DTEND:20220521T184500Z
URL:https://calendify.com/session/Zx8g8Kl5Myv
LOCATION:Blauer Salon
SUMMARY:Smartphone Security - how to prevent audio surveillance
CLASS:PUBLIC
DESCRIPTION:https://calendify.com/session/Zx8g8Kl5Myv
DTSTAMP:20260422T112356Z
CREATED:20220502T005753Z
LAST-MODIFIED:20220521T215002Z
END:VEVENT
END:VCALENDAR