BEGIN:VCALENDAR
VERSION:2.0
PRODID:calendify.com
BEGIN:VEVENT
UID:calendify-session-Zx8g8KwRMyv
DTSTART:20220611T125500Z
SEQUENCE:0
TRANSP:OPAQUE
DTEND:20220611T134000Z
URL:https://calendify.com/session/Zx8g8KwRMyv
LOCATION:.txt Stage
SUMMARY:Alternative Ausspielungskanäle journalistischer Recherchen
CLASS:PUBLIC
DESCRIPTION:https://calendify.com/session/Zx8g8KwRMyv
DTSTAMP:20260424T014449Z
CREATED:20220526T162948Z
LAST-MODIFIED:20220613T235204Z
END:VEVENT
END:VCALENDAR