BEGIN:VCALENDAR
VERSION:2.0
PRODID:calendify.com
BEGIN:VEVENT
UID:calendify-session-Zx8g8KxyMyv
DTSTART:20220609T080000Z
SEQUENCE:0
TRANSP:OPAQUE
DTEND:20220609T090000Z
URL:https://calendify.com/session/Zx8g8KxyMyv
LOCATION:Stage 2
SUMMARY:Support your Local: Investitionsverpflichtungen für Netflix & Co.?
CLASS:PUBLIC
DESCRIPTION:https://calendify.com/session/Zx8g8KxyMyv
DTSTAMP:20260420T112705Z
CREATED:20220526T162947Z
LAST-MODIFIED:20220613T235204Z
END:VEVENT
END:VCALENDAR