BEGIN:VCALENDAR
VERSION:2.0
PRODID:calendify.com
BEGIN:VEVENT
UID:calendify-session-Zx8g8KzvMyv
DTSTART:20161228T124500Z
SEQUENCE:0
TRANSP:OPAQUE
DTEND:20161228T131500Z
URL:https://calendify.com/session/Zx8g8KzvMyv
LOCATION:Saal 6
SUMMARY:Wheel of Fortune
CLASS:PUBLIC
DESCRIPTION:https://calendify.com/session/Zx8g8KzvMyv
DTSTAMP:20260420T153909Z
CREATED:20220415T135303Z
LAST-MODIFIED:20220415T135303Z
END:VEVENT
END:VCALENDAR