BEGIN:VCALENDAR
VERSION:2.0
PRODID:calendify.com
BEGIN:VEVENT
UID:calendify-session-Zx8g8LqPgyv
DTSTART:20191228T181000Z
SEQUENCE:0
TRANSP:OPAQUE
DTEND:20191228T185000Z
URL:https://calendify.com/session/Zx8g8LqPgyv
LOCATION:Eliza
SUMMARY:Listening Back Browser Add-On Tranlates Cookies Into Sound 
CLASS:PUBLIC
DESCRIPTION:https://calendify.com/session/Zx8g8LqPgyv
DTSTAMP:20260424T020416Z
CREATED:20200429T014101Z
LAST-MODIFIED:20200429T014101Z
END:VEVENT
END:VCALENDAR