BEGIN:VCALENDAR
VERSION:2.0
PRODID:calendify.com
BEGIN:VEVENT
UID:calendify-session-Zx8g8dLagyv
DTSTART:20221227T150000Z
SEQUENCE:0
TRANSP:OPAQUE
DTEND:20221227T155500Z
URL:https://calendify.com/session/Zx8g8dLagyv
LOCATION:HIP - Track 1 - Room 5
SUMMARY:50 years of C\, the good\, the bad and the ugly
CLASS:PUBLIC
DESCRIPTION:https://calendify.com/session/Zx8g8dLagyv
DTSTAMP:20260424T052843Z
CREATED:20221218T163040Z
LAST-MODIFIED:20221230T225002Z
END:VEVENT
END:VCALENDAR