BEGIN:VCALENDAR
VERSION:2.0
PRODID:calendify.com
BEGIN:VEVENT
UID:calendify-session-Zx8g8dWLgyv
DTSTART:20230610T080000Z
SEQUENCE:0
TRANSP:OPAQUE
DTEND:20230610T083000Z
URL:https://calendify.com/session/Zx8g8dWLgyv
LOCATION:Medientheater
SUMMARY:Wie man mit Mathematik ein API übernehmen kann (und wie gute Archi
 tektur das verhindert)
CLASS:PUBLIC
DESCRIPTION:https://calendify.com/session/Zx8g8dWLgyv
DTSTAMP:20260423T163257Z
CREATED:20230527T091821Z
LAST-MODIFIED:20230611T215002Z
END:VEVENT
END:VCALENDAR