BEGIN:VCALENDAR
VERSION:2.0
PRODID:calendify.com
BEGIN:VEVENT
UID:calendify-session-Zx8g8ddygyv
DTSTART:20221228T180000Z
SEQUENCE:0
TRANSP:OPAQUE
DTEND:20221228T220000Z
URL:https://calendify.com/session/Zx8g8ddygyv
LOCATION:Klangkeller - H1-U.1
SUMMARY:Echokammer Takeover: LIVE
CLASS:PUBLIC
DESCRIPTION:https://calendify.com/session/Zx8g8ddygyv
DTSTAMP:20260423T222340Z
CREATED:20221222T170031Z
LAST-MODIFIED:20221230T225007Z
END:VEVENT
END:VCALENDAR