BEGIN:VCALENDAR
VERSION:2.0
PRODID:calendify.com
BEGIN:VEVENT
UID:calendify-session-Zx8g8dpLgyv
DTSTART:20220724T140000Z
SEQUENCE:0
TRANSP:OPAQUE
DTEND:20220724T154000Z
URL:https://calendify.com/session/Zx8g8dpLgyv
LOCATION:Clairvoyance 🔮
SUMMARY:Lightning Talks Sunday
CLASS:PUBLIC
DESCRIPTION:https://calendify.com/session/Zx8g8dpLgyv
DTSTAMP:20260424T015204Z
CREATED:20220725T094113Z
LAST-MODIFIED:20220726T182703Z
END:VEVENT
END:VCALENDAR