BEGIN:VCALENDAR
VERSION:2.0
PRODID:calendify.com
BEGIN:VEVENT
UID:calendify-session-Zx8g8dvrgyv
DTSTART:20221226T110000Z
SEQUENCE:0
TRANSP:OPAQUE
DTEND:20221226T123000Z
URL:https://calendify.com/session/Zx8g8dvrgyv
LOCATION:Stände - H2-4.8
SUMMARY:Mindzone Infostand
CLASS:PUBLIC
DESCRIPTION:https://calendify.com/session/Zx8g8dvrgyv
DTSTAMP:20260423T151452Z
CREATED:20221224T133614Z
LAST-MODIFIED:20221230T225007Z
END:VEVENT
END:VCALENDAR