BEGIN:VCALENDAR
VERSION:2.0
PRODID:calendify.com
BEGIN:VEVENT
UID:calendify-session-Zx8g8v3LOyv
DTSTART:20240921T170000Z
SEQUENCE:0
TRANSP:OPAQUE
DTEND:20240921T183000Z
URL:https://calendify.com/session/Zx8g8v3LOyv
LOCATION:Henny Brenner Saal
SUMMARY:Dein Kreuz auf dem Stimmzettel gegen Faschismus..?! Wie weiter nach
  der Wahl in Sachsen? (Podiumsdiskussion) [DE]
CLASS:PUBLIC
DESCRIPTION:https://calendify.com/session/Zx8g8v3LOyv
DTSTAMP:20260421T012627Z
CREATED:20241208T220338Z
LAST-MODIFIED:20241208T220338Z
END:VEVENT
END:VCALENDAR