BEGIN:VCALENDAR
VERSION:2.0
PRODID:calendify.com
BEGIN:VEVENT
UID:calendify-session-Zx8g8v3POyv
DTSTART:20240921T124500Z
SEQUENCE:0
TRANSP:OPAQUE
DTEND:20240921T140000Z
URL:https://calendify.com/session/Zx8g8v3POyv
LOCATION:Kleiner Saal
SUMMARY:Challenges of organizing struggle against the Israeli occupation\, 
 Apartheid\, and Genocide
CLASS:PUBLIC
DESCRIPTION:https://calendify.com/session/Zx8g8v3POyv
DTSTAMP:20260420T185038Z
CREATED:20241208T220338Z
LAST-MODIFIED:20241208T220338Z
END:VEVENT
END:VCALENDAR