BEGIN:VCALENDAR
VERSION:2.0
PRODID:calendify.com
BEGIN:VEVENT
UID:calendify-session-Zx8g8voaOyv
DTSTART:20241227T100000Z
SEQUENCE:0
TRANSP:OPAQUE
DTEND:20241227T120000Z
URL:https://calendify.com/session/Zx8g8voaOyv
LOCATION:CDC Circle
SUMMARY:PGP key-Signing event
CLASS:PUBLIC
DESCRIPTION:https://calendify.com/session/Zx8g8voaOyv
DTSTAMP:20260421T222822Z
CREATED:20241227T141500Z
LAST-MODIFIED:20250101T225002Z
END:VEVENT
END:VCALENDAR