BEGIN:VCALENDAR
VERSION:2.0
PRODID:calendify.com
BEGIN:VEVENT
UID:calendify-session-Zx8g8yJP4yv
DTSTART:20210521T110500Z
SEQUENCE:0
TRANSP:OPAQUE
DTEND:20210521T113000Z
URL:https://calendify.com/session/Zx8g8yJP4yv
LOCATION:Kanal 2
SUMMARY:rp21: Die Rückkehr der Netzsperren
CLASS:PUBLIC
DESCRIPTION:https://calendify.com/session/Zx8g8yJP4yv
DTSTAMP:20260422T233203Z
CREATED:20210511T170422Z
LAST-MODIFIED:20210524T215002Z
END:VEVENT
END:VCALENDAR