BEGIN:VCALENDAR
VERSION:2.0
PRODID:calendify.com
BEGIN:VEVENT
UID:calendify-session-Zx8g8yK54yv
DTSTART:20210317T170000Z
SEQUENCE:0
TRANSP:OPAQUE
DTEND:20210317T183000Z
URL:https://calendify.com/session/Zx8g8yK54yv
LOCATION:Zoom Room 3A
SUMMARY:Making AI Matter Hands-On Workshop | Help Us Solve Global Health\, 
 Climate Change\, and Education Access
CLASS:PUBLIC
DESCRIPTION:https://calendify.com/session/Zx8g8yK54yv
DTSTAMP:20260424T031849Z
CREATED:20210426T094929Z
LAST-MODIFIED:20210426T094929Z
END:VEVENT
END:VCALENDAR