BEGIN:VCALENDAR
VERSION:2.0
PRODID:calendify.com
BEGIN:VEVENT
UID:calendify-session-Zx8g8yPP4yv
DTSTART:20210522T140000Z
SEQUENCE:0
TRANSP:OPAQUE
DTEND:20210522T143500Z
URL:https://calendify.com/session/Zx8g8yPP4yv
LOCATION:Kanal 2
SUMMARY:Die Digitale Zivilgesellschaft stärken  (kanalübergreifend)
CLASS:PUBLIC
DESCRIPTION:https://calendify.com/session/Zx8g8yPP4yv
DTSTAMP:20260423T004708Z
CREATED:20210515T090102Z
LAST-MODIFIED:20210524T215002Z
END:VEVENT
END:VCALENDAR