BEGIN:VCALENDAR
VERSION:2.0
PRODID:calendify.com
BEGIN:VEVENT
UID:calendify-session-Zx8g8yd54yv
DTSTART:20210318T181500Z
SEQUENCE:0
TRANSP:OPAQUE
DTEND:20210318T191500Z
URL:https://calendify.com/session/Zx8g8yd54yv
LOCATION:Zoom Room 3B
SUMMARY:The EU Digital Services Act: where'd it come from\, what's included
 \, and how can you get involved
CLASS:PUBLIC
DESCRIPTION:https://calendify.com/session/Zx8g8yd54yv
DTSTAMP:20260422T165630Z
CREATED:20210426T094929Z
LAST-MODIFIED:20210426T094929Z
END:VEVENT
END:VCALENDAR