BEGIN:VCALENDAR
VERSION:2.0
PRODID:calendify.com
BEGIN:VEVENT
UID:calendify-session-Zx8g8ykv4yv
DTSTART:20211228T164000Z
SEQUENCE:0
TRANSP:OPAQUE
DTEND:20211228T165500Z
URL:https://calendify.com/session/Zx8g8ykv4yv
LOCATION:Haecksen Zur authentischen Grace
SUMMARY:Q&A Let's talk about Genderneutrale Erziehung
CLASS:PUBLIC
DESCRIPTION:https://calendify.com/session/Zx8g8ykv4yv
DTSTAMP:20260424T152215Z
CREATED:20211228T164010Z
LAST-MODIFIED:20211230T225002Z
END:VEVENT
END:VCALENDAR