BEGIN:VCALENDAR
VERSION:2.0
PRODID:calendify.com
BEGIN:VEVENT
UID:calendify-session-Zx8g8yrv4yv
DTSTART:20220205T135500Z
SEQUENCE:0
TRANSP:OPAQUE
DTEND:20220205T145500Z
URL:https://calendify.com/session/Zx8g8yrv4yv
LOCATION:D.dart-flutter
SUMMARY:Building PWA with Flutter
CLASS:PUBLIC
DESCRIPTION:https://calendify.com/session/Zx8g8yrv4yv
DTSTAMP:20260420T093711Z
CREATED:20220120T214602Z
LAST-MODIFIED:20220206T225002Z
END:VEVENT
END:VCALENDAR