BEGIN:VCALENDAR
VERSION:2.0
PRODID:calendify.com
BEGIN:VEVENT
UID:calendify-session-Zx8g8z5bOyv
DTSTART:20240530T190000Z
SEQUENCE:0
TRANSP:OPAQUE
DTEND:20240530T203000Z
URL:https://calendify.com/session/Zx8g8z5bOyv
LOCATION:HfG Raum 112
SUMMARY:Pole Fitness Workshop
CLASS:PUBLIC
DESCRIPTION:https://calendify.com/session/Zx8g8z5bOyv
DTSTAMP:20260422T061857Z
CREATED:20240531T122738Z
LAST-MODIFIED:20240602T132303Z
END:VEVENT
END:VCALENDAR