BEGIN:VCALENDAR
VERSION:2.0
PRODID:calendify.com
BEGIN:VEVENT
UID:calendify-session-Zx8g8z6rOyv
DTSTART:20231229T120000Z
SEQUENCE:0
TRANSP:OPAQUE
DTEND:20231229T130000Z
URL:https://calendify.com/session/Zx8g8z6rOyv
LOCATION:House
SUMMARY:UX & Human-Centered Design People Networking!
CLASS:PUBLIC
DESCRIPTION:https://calendify.com/session/Zx8g8z6rOyv
DTSTAMP:20260423T060411Z
CREATED:20231218T013831Z
LAST-MODIFIED:20240401T142932Z
END:VEVENT
END:VCALENDAR