BEGIN:VCALENDAR
VERSION:2.0
PRODID:calendify.com
BEGIN:VEVENT
UID:calendify-session-Zx8g8z8EOyv
DTSTART:20231228T170000Z
SEQUENCE:0
TRANSP:OPAQUE
DTEND:20231228T180000Z
URL:https://calendify.com/session/Zx8g8z8EOyv
LOCATION:Lounge
SUMMARY:#clubsAREculture
CLASS:PUBLIC
DESCRIPTION:https://calendify.com/session/Zx8g8z8EOyv
DTSTAMP:20260423T060122Z
CREATED:20231227T004003Z
LAST-MODIFIED:20240401T142932Z
END:VEVENT
END:VCALENDAR