BEGIN:VCALENDAR
VERSION:2.0
PRODID:calendify.com
BEGIN:VEVENT
UID:calendify-session-Zx8g8zGaOyv
DTSTART:20230901T140000Z
SEQUENCE:0
TRANSP:OPAQUE
DTEND:20230901T153000Z
URL:https://calendify.com/session/Zx8g8zGaOyv
LOCATION:B002 - Höhle der Hohlerde
SUMMARY:Parallelwelten der Theoretischen Informatik
CLASS:PUBLIC
DESCRIPTION:https://calendify.com/session/Zx8g8zGaOyv
DTSTAMP:20260422T200753Z
CREATED:20240328T132702Z
LAST-MODIFIED:20240328T132702Z
END:VEVENT
END:VCALENDAR