BEGIN:VCALENDAR
VERSION:2.0
PRODID:calendify.com
BEGIN:VEVENT
UID:calendify-session-Zx8g8zRrOyv
DTSTART:20231230T130000Z
SEQUENCE:0
TRANSP:OPAQUE
DTEND:20231230T150000Z
URL:https://calendify.com/session/Zx8g8zRrOyv
LOCATION:Kidspace - Saal B
SUMMARY:Geschichten erzählen - The Storytellers Den (LARP) - Tag 4
CLASS:PUBLIC
DESCRIPTION:https://calendify.com/session/Zx8g8zRrOyv
DTSTAMP:20260423T044216Z
CREATED:20231221T004755Z
LAST-MODIFIED:20240401T142934Z
END:VEVENT
END:VCALENDAR