BEGIN:VCALENDAR
VERSION:2.0
PRODID:calendify.com
BEGIN:VEVENT
UID:calendify-session-Zx8g8zWEOyv
DTSTART:20231228T220000Z
SEQUENCE:0
TRANSP:OPAQUE
DTEND:20231229T000000Z
URL:https://calendify.com/session/Zx8g8zWEOyv
LOCATION:Stage Y
SUMMARY:Movie/Filmvorführung: Von Menschen\, die auf Bäume steigen / Peop
 le who climb on trees
CLASS:PUBLIC
DESCRIPTION:https://calendify.com/session/Zx8g8zWEOyv
DTSTAMP:20260423T033023Z
CREATED:20231226T080003Z
LAST-MODIFIED:20240401T142932Z
END:VEVENT
END:VCALENDAR