BEGIN:VCALENDAR
VERSION:2.0
PRODID:calendify.com
BEGIN:VEVENT
UID:calendify-session-Zx8g8zYEOyv
DTSTART:20231230T140000Z
SEQUENCE:0
TRANSP:OPAQUE
DTEND:20231230T150000Z
URL:https://calendify.com/session/Zx8g8zYEOyv
LOCATION:Stage Y
SUMMARY:Meetup on LLM Agents
CLASS:PUBLIC
DESCRIPTION:https://calendify.com/session/Zx8g8zYEOyv
DTSTAMP:20260423T060152Z
CREATED:20231226T163002Z
LAST-MODIFIED:20240401T142934Z
END:VEVENT
END:VCALENDAR