BEGIN:VCALENDAR
VERSION:2.0
PRODID:calendify.com
BEGIN:VEVENT
UID:calendify-session-Zx8g8za5Oyv
DTSTART:20231228T130000Z
SEQUENCE:0
TRANSP:OPAQUE
DTEND:20231228T133000Z
URL:https://calendify.com/session/Zx8g8za5Oyv
LOCATION:Pseudoroom
SUMMARY:Klimagerechtigkeit erhacken
CLASS:PUBLIC
DESCRIPTION:https://calendify.com/session/Zx8g8za5Oyv
DTSTAMP:20260423T033128Z
CREATED:20231227T140003Z
LAST-MODIFIED:20240401T142932Z
END:VEVENT
END:VCALENDAR