BEGIN:VCALENDAR
VERSION:2.0
PRODID:calendify.com
BEGIN:VEVENT
UID:calendify-session-Zx8g8zeLOyv
DTSTART:20230721T130000Z
SEQUENCE:0
TRANSP:OPAQUE
DTEND:20230721T140000Z
URL:https://calendify.com/session/Zx8g8zeLOyv
LOCATION:Vortragsraum
SUMMARY:Designing for Laser Cutting - Lessons from 10 years of Boxes.py
CLASS:PUBLIC
DESCRIPTION:https://calendify.com/session/Zx8g8zeLOyv
DTSTAMP:20260420T044418Z
CREATED:20230806T113705Z
LAST-MODIFIED:20230806T113705Z
END:VEVENT
END:VCALENDAR