BEGIN:VCALENDAR
VERSION:2.0
PRODID:calendify.com
BEGIN:VEVENT
UID:calendify-session-Zx8g8zkLOyv
DTSTART:20231229T150000Z
SEQUENCE:0
TRANSP:OPAQUE
DTEND:20231229T160000Z
URL:https://calendify.com/session/Zx8g8zkLOyv
LOCATION:Round Table [CDC Saal 3]
SUMMARY:Escaping the Multicall of Madness (how to read data from EVM blockc
 hains in style)
CLASS:PUBLIC
DESCRIPTION:https://calendify.com/session/Zx8g8zkLOyv
DTSTAMP:20260423T033117Z
CREATED:20231228T181003Z
LAST-MODIFIED:20240401T142933Z
END:VEVENT
END:VCALENDAR