BEGIN:VCALENDAR
VERSION:2.0
PRODID:calendify.com
BEGIN:VEVENT
UID:calendify-session-Zx8g8zpEOyv
DTSTART:20230815T123000Z
SEQUENCE:0
TRANSP:OPAQUE
DTEND:20230815T131500Z
URL:https://calendify.com/session/Zx8g8zpEOyv
LOCATION:Milliways
SUMMARY:What de.fac2? Attacking an opensource U2F device in 30 minutes or l
 ess
CLASS:PUBLIC
DESCRIPTION:https://calendify.com/session/Zx8g8zpEOyv
DTSTAMP:20260422T164241Z
CREATED:20230806T112913Z
LAST-MODIFIED:20240401T150759Z
END:VEVENT
END:VCALENDAR