BEGIN:VCALENDAR
VERSION:2.0
PRODID:calendify.com
BEGIN:VEVENT
UID:calendify-session-Zx8g8zrPOyv
DTSTART:20240329T160000Z
SEQUENCE:0
TRANSP:OPAQUE
DTEND:20240329T180000Z
URL:https://calendify.com/session/Zx8g8zrPOyv
LOCATION:Adas Roothaus - K017
SUMMARY:Platinendesign mit KiCad - Beginner Workshop
CLASS:PUBLIC
DESCRIPTION:https://calendify.com/session/Zx8g8zrPOyv
DTSTAMP:20260423T131847Z
CREATED:20240328T125150Z
LAST-MODIFIED:20240401T142841Z
END:VEVENT
END:VCALENDAR