BEGIN:VCALENDAR
VERSION:2.0
PRODID:calendify.com
BEGIN:VEVENT
UID:calendify-session-awKMm6AXgmP
DTSTART:20241227T180000Z
SEQUENCE:0
TRANSP:OPAQUE
DTEND:20241227T200000Z
URL:https://calendify.com/session/awKMm6AXgmP
LOCATION:Call for Art (Eingangshalle)
SUMMARY:Do It Together - Screen Print / Siebdruck - Day 1
CLASS:PUBLIC
DESCRIPTION:https://calendify.com/session/awKMm6AXgmP
DTSTAMP:20260423T150501Z
CREATED:20241227T141502Z
LAST-MODIFIED:20250101T225002Z
END:VEVENT
END:VCALENDAR