BEGIN:VCALENDAR
VERSION:2.0
PRODID:calendify.com
BEGIN:VEVENT
UID:calendify-session-awKMmE6NMmP
DTSTART:20240921T133000Z
SEQUENCE:0
TRANSP:OPAQUE
DTEND:20240921T141500Z
URL:https://calendify.com/session/awKMmE6NMmP
LOCATION:Kabinett
SUMMARY:Hacking is a Mindset\, Not a Skillset: A Non-Technical Guide to Bui
 lding Solidarity Infrastructures and Clowning
CLASS:PUBLIC
DESCRIPTION:https://calendify.com/session/awKMmE6NMmP
DTSTAMP:20260420T233559Z
CREATED:20241208T220338Z
LAST-MODIFIED:20241208T220338Z
END:VEVENT
END:VCALENDAR