BEGIN:VCALENDAR
VERSION:2.0
PRODID:calendify.com
BEGIN:VEVENT
UID:calendify-session-awKMmE6zMmP
DTSTART:20240921T100000Z
SEQUENCE:0
TRANSP:OPAQUE
DTEND:20240921T104500Z
URL:https://calendify.com/session/awKMmE6zMmP
LOCATION:Seminarraum
SUMMARY:Youth Hacking 4 Freedom\; der Coding-Wettbewerb für Jugendliche
CLASS:PUBLIC
DESCRIPTION:https://calendify.com/session/awKMmE6zMmP
DTSTAMP:20260420T221113Z
CREATED:20241208T220338Z
LAST-MODIFIED:20241208T220338Z
END:VEVENT
END:VCALENDAR