BEGIN:VCALENDAR
VERSION:2.0
PRODID:calendify.com
BEGIN:VEVENT
UID:calendify-session-awKMmEpnMmP
DTSTART:20241003T130042Z
SEQUENCE:0
TRANSP:OPAQUE
DTEND:20241003T133042Z
URL:https://calendify.com/session/awKMmEpnMmP
LOCATION:C205 - Ocean Starr
SUMMARY:Knots
CLASS:PUBLIC
DESCRIPTION:https://calendify.com/session/awKMmEpnMmP
DTSTAMP:20260422T122553Z
CREATED:20241208T215140Z
LAST-MODIFIED:20241208T215140Z
END:VEVENT
END:VCALENDAR