BEGIN:VCALENDAR
VERSION:2.0
PRODID:calendify.com
BEGIN:VEVENT
UID:calendify-session-awKMmGBn4mP
DTSTART:20260201T114000Z
SEQUENCE:0
TRANSP:OPAQUE
DTEND:20260201T115500Z
URL:https://calendify.com/session/awKMmGBn4mP
LOCATION:H.2215 (Ferrer)
SUMMARY:Trust the Math\, Fear the Compiler: How Optimizations Undermine Cry
 ptographic Software
CLASS:PUBLIC
DESCRIPTION:https://calendify.com/session/awKMmGBn4mP
DTSTAMP:20260424T062259Z
CREATED:20260131T063316Z
LAST-MODIFIED:20260201T163231Z
END:VEVENT
END:VCALENDAR