BEGIN:VCALENDAR
VERSION:2.0
PRODID:calendify.com
BEGIN:VEVENT
UID:calendify-session-awKMmGpa4mP
DTSTART:20260131T143000Z
SEQUENCE:0
TRANSP:OPAQUE
DTEND:20260131T150000Z
URL:https://calendify.com/session/awKMmGpa4mP
LOCATION:H.2213
SUMMARY:Lima v2.0: expanding the focus to hardening AI
CLASS:PUBLIC
DESCRIPTION:https://calendify.com/session/awKMmGpa4mP
DTSTAMP:20260424T062257Z
CREATED:20260131T063247Z
LAST-MODIFIED:20260201T163222Z
END:VEVENT
END:VCALENDAR