BEGIN:VCALENDAR
VERSION:2.0
PRODID:calendify.com
BEGIN:VEVENT
UID:calendify-session-awKMmGxR4mP
DTSTART:20260131T100000Z
SEQUENCE:0
TRANSP:OPAQUE
DTEND:20260131T105500Z
URL:https://calendify.com/session/awKMmGxR4mP
LOCATION:UD2.119
SUMMARY:BOF: Linux & Open Source Software for safety applications in Railwa
 ys
CLASS:PUBLIC
DESCRIPTION:https://calendify.com/session/awKMmGxR4mP
DTSTAMP:20260424T003304Z
CREATED:20260131T063309Z
LAST-MODIFIED:20260201T163231Z
END:VEVENT
END:VCALENDAR