BEGIN:VCALENDAR
VERSION:2.0
PRODID:calendify.com
BEGIN:VEVENT
UID:calendify-session-awKMmNaNgmP
DTSTART:20230610T150000Z
SEQUENCE:0
TRANSP:OPAQUE
DTEND:20230610T170000Z
URL:https://calendify.com/session/awKMmNaNgmP
LOCATION:Anderswo/Draußen
SUMMARY:FINTA* Meetup
CLASS:PUBLIC
DESCRIPTION:https://calendify.com/session/awKMmNaNgmP
DTSTAMP:20260422T154837Z
CREATED:20230527T091822Z
LAST-MODIFIED:20230611T215002Z
END:VEVENT
END:VCALENDAR