BEGIN:VCALENDAR
VERSION:2.0
PRODID:calendify.com
BEGIN:VEVENT
UID:calendify-session-awKMmNeGgmP
DTSTART:20221228T180000Z
SEQUENCE:0
TRANSP:OPAQUE
DTEND:20221228T200000Z
URL:https://calendify.com/session/awKMmNeGgmP
LOCATION:Eingang
SUMMARY:Abendessen Tag 2
CLASS:PUBLIC
DESCRIPTION:https://calendify.com/session/awKMmNeGgmP
DTSTAMP:20260419T124250Z
CREATED:20221221T105332Z
LAST-MODIFIED:20221230T225005Z
END:VEVENT
END:VCALENDAR