BEGIN:VCALENDAR
VERSION:2.0
PRODID:calendify.com
BEGIN:VEVENT
UID:calendify-session-awKMmNlagmP
DTSTART:20221231T090000Z
SEQUENCE:0
TRANSP:OPAQUE
DTEND:20221231T150000Z
URL:https://calendify.com/session/awKMmNlagmP
LOCATION:Austellungsraum 2 - H2-2.4
SUMMARY:Evros + Ausstellung zum Thema Abschiebehaft und Ankerzentren
CLASS:PUBLIC
DESCRIPTION:https://calendify.com/session/awKMmNlagmP
DTSTAMP:20260423T011906Z
CREATED:20221222T170032Z
LAST-MODIFIED:20221230T225007Z
END:VEVENT
END:VCALENDAR