BEGIN:VCALENDAR
VERSION:2.0
PRODID:calendify.com
BEGIN:VEVENT
UID:calendify-session-awKMmR9XgmP
DTSTART:20201227T233000Z
SEQUENCE:0
TRANSP:OPAQUE
DTEND:20201228T043000Z
URL:https://calendify.com/session/awKMmR9XgmP
LOCATION:Bitwäscherei Zürich
SUMMARY:rCR RADIO LOUNGE
CLASS:PUBLIC
DESCRIPTION:https://calendify.com/session/awKMmR9XgmP
DTSTAMP:20260422T175846Z
CREATED:20201227T210303Z
LAST-MODIFIED:20211226T145746Z
END:VEVENT
END:VCALENDAR