BEGIN:VCALENDAR
VERSION:2.0
PRODID:calendify.com
BEGIN:VEVENT
UID:calendify-session-awKMmRQQgmP
DTSTART:20200905T200000Z
SEQUENCE:0
TRANSP:OPAQUE
DTEND:20200905T210000Z
URL:https://calendify.com/session/awKMmRQQgmP
LOCATION:Schneider-Hoover
SUMMARY:THORD1S
CLASS:PUBLIC
DESCRIPTION:https://calendify.com/session/awKMmRQQgmP
DTSTAMP:20260420T160225Z
CREATED:20200904T143714Z
LAST-MODIFIED:20200904T143714Z
END:VEVENT
END:VCALENDAR