BEGIN:VCALENDAR
VERSION:2.0
PRODID:calendify.com
BEGIN:VEVENT
UID:calendify-session-awKMmRQRgmP
DTSTART:20200904T180000Z
SEQUENCE:0
TRANSP:OPAQUE
DTEND:20200904T191500Z
URL:https://calendify.com/session/awKMmRQRgmP
LOCATION:Schneider-Hoover
SUMMARY:Monitoring häufiger Brutvögel - Auswertung mit QGIS
CLASS:PUBLIC
DESCRIPTION:https://calendify.com/session/awKMmRQRgmP
DTSTAMP:20260424T033041Z
CREATED:20200904T143714Z
LAST-MODIFIED:20200904T143714Z
END:VEVENT
END:VCALENDAR