BEGIN:VCALENDAR
VERSION:2.0
PRODID:calendify.com
BEGIN:VEVENT
UID:calendify-session-awKMmRXzgmP
DTSTART:20190922T111500Z
SEQUENCE:0
TRANSP:OPAQUE
DTEND:20190922T120000Z
URL:https://calendify.com/session/awKMmRXzgmP
LOCATION:Großer Saal
SUMMARY:Digitale Befreiung
CLASS:PUBLIC
DESCRIPTION:https://calendify.com/session/awKMmRXzgmP
DTSTAMP:20260424T014741Z
CREATED:20200610T174346Z
LAST-MODIFIED:20200610T174346Z
END:VEVENT
END:VCALENDAR