BEGIN:VCALENDAR
VERSION:2.0
PRODID:calendify.com
BEGIN:VEVENT
UID:calendify-session-awKMme2nMmP
DTSTART:20220205T143000Z
SEQUENCE:0
TRANSP:OPAQUE
DTEND:20220205T145000Z
URL:https://calendify.com/session/awKMme2nMmP
LOCATION:D.research
SUMMARY:Standards panel
CLASS:PUBLIC
DESCRIPTION:https://calendify.com/session/awKMme2nMmP
DTSTAMP:20260422T064523Z
CREATED:20220120T214603Z
LAST-MODIFIED:20220206T225003Z
END:VEVENT
END:VCALENDAR