BEGIN:VCALENDAR
VERSION:2.0
PRODID:calendify.com
BEGIN:VEVENT
UID:calendify-session-awKMme5QMmP
DTSTART:20220205T140000Z
SEQUENCE:0
TRANSP:OPAQUE
DTEND:20220205T150000Z
URL:https://calendify.com/session/awKMme5QMmP
LOCATION:D.embedded
SUMMARY:ply: lightweight eBPF tracing
CLASS:PUBLIC
DESCRIPTION:https://calendify.com/session/awKMme5QMmP
DTSTAMP:20260424T200149Z
CREATED:20220120T214602Z
LAST-MODIFIED:20220206T225002Z
END:VEVENT
END:VCALENDAR