BEGIN:VCALENDAR
VERSION:2.0
PRODID:calendify.com
BEGIN:VEVENT
UID:calendify-session-awKMme5ZMmP
DTSTART:20220205T090000Z
SEQUENCE:0
TRANSP:OPAQUE
DTEND:20220205T094000Z
URL:https://calendify.com/session/awKMme5ZMmP
LOCATION:D.openjdk
SUMMARY:Keeping Your Java Hot & Fresh in 2022
CLASS:PUBLIC
DESCRIPTION:https://calendify.com/session/awKMme5ZMmP
DTSTAMP:20260423T185106Z
CREATED:20220120T214602Z
LAST-MODIFIED:20220206T225002Z
END:VEVENT
END:VCALENDAR