BEGIN:VCALENDAR
VERSION:2.0
PRODID:calendify.com
BEGIN:VEVENT
UID:calendify-session-awKMmeDRMmP
DTSTART:20210310T201500Z
SEQUENCE:0
TRANSP:OPAQUE
DTEND:20210310T211500Z
URL:https://calendify.com/session/awKMmeDRMmP
LOCATION:Zoom Room 4A
SUMMARY:Feeding 2 Birds with One Scone: How to Achieve Diversity & Sustaina
 bility for Open Source Software Teams
CLASS:PUBLIC
DESCRIPTION:https://calendify.com/session/awKMmeDRMmP
DTSTAMP:20260420T235425Z
CREATED:20210426T094927Z
LAST-MODIFIED:20210426T094927Z
END:VEVENT
END:VCALENDAR