BEGIN:VCALENDAR
VERSION:2.0
PRODID:calendify.com
BEGIN:VEVENT
UID:calendify-session-awKMmeENMmP
DTSTART:20210521T135600Z
SEQUENCE:0
TRANSP:OPAQUE
DTEND:20210521T140200Z
URL:https://calendify.com/session/awKMmeENMmP
LOCATION:Kanal 2
SUMMARY:Access to Creative Philosophy with Public Libraries in Parisian Par
 ks
CLASS:PUBLIC
DESCRIPTION:https://calendify.com/session/awKMmeENMmP
DTSTAMP:20260423T031840Z
CREATED:20210429T130909Z
LAST-MODIFIED:20210524T215002Z
END:VEVENT
END:VCALENDAR